BEGIN:VCALENDAR
PRODID:-//github.com/rianjs/ical.net//NONSGML ical.net 4.0//EN
VERSION:2.0
BEGIN:VTIMEZONE
TZID:America/Phoenix
X-LIC-LOCATION:America/Phoenix
END:VTIMEZONE
BEGIN:VEVENT
DESCRIPTION:Desert Code Camp - 2023
DTEND;TZID=America/Phoenix:20231014T180000
DTSTAMP:20260422T090555Z
DTSTART;TZID=America/Phoenix:20231014T080000
GEO:33.293070;-111.796620
LOCATION:Chandler - Gilbert Community College
ORGANIZER:
SEQUENCE:0
STATUS:TENTATIVE
SUMMARY:Desert Code Camp - 2023
UID:61992f0f-cc59-4ae5-a2d3-4a2430d4e553
END:VEVENT
END:VCALENDAR
